BEGIN:VCALENDAR
VERSION:2.0
CALSCALE:GREGORIAN
PRODID:-//MyApp//Calendar 1.0//EN
BEGIN:VEVENT
METHOD:PUBLISH
UID:64042@regionalniportaly.cz
DTSTAMP:20260422T013805Z
DTSTART;VALUE=DATE:20260415
DTEND;VALUE=DATE:20260416
SUMMARY:Workshop Nejlepší rok tvého života 2026
DESCRIPTION: 3hodinový workshop pro ty\, kteří nechtějí čekat na leden\, ale chtějí převzít kontrolu nad svým rokem teď. Duben je ideální čas na restart. První čtvrtletí je za tebou – a teď je prostor rozhodnout\, jak bude vypadat zbytek roku 2026.\nTento workshop je pro lidi\, kteří už nechtějí „zkoušet“ změnu\, ale chtějí si rok vědomě nadesignovat jako vítězové. \n \nBlok 1: Audit a uzavření první části roku Než půjdeš dál\, potřebuješ jasno.\n✔ Inventura dosavadního roku – co funguje a kde ti utíká energie\n✔ Technika Stop–Start–Continue – co přestat dělat\, co posílit\n✔ Identita 2026 – kým se musíš stát\, aby zbytek roku vypadal jinak než jeho začátek Nepracujeme jen s cíli. Pracujeme s mindsetem.\n \nBlok 2: Strategie „Design 2026″ Proč roční cíle selhávají? Protože nemají strukturu.\n✔ Metoda 90 dní – rozdělíme zbytek roku na strategické sprinty\n✔ 3 pilíře roku – vybereš jen tři klíčové oblasti (např. zdraví\, finance\, vztahy)\n✔ WOOP metoda – plán pro chvíle\, kdy dojde motivace Odcházíš s konkrétní mapou dalšího postupu.\n \nBlok 3: Ukotvení a první kroky\n✔ Tvorba rituálů – nové návyky patří do kalendáře\n✔ Accountability – kdo tě podrží\, když polevíš\n✔ Dopis budoucímu já – závazek\, který si odneseš domů Nečekáš na další leden. Začínáš teď.\n \n✨ Nejlepší rok nezačíná 1. ledna. Začíná ve chvíli\, kdy se rozhodneš.
LOCATION:Bohutice
END:VEVENT
END:VCALENDAR