BEGIN:VCALENDAR
VERSION:2.0
CALSCALE:GREGORIAN
PRODID:-//MyApp//Calendar 1.0//EN
BEGIN:VEVENT
METHOD:PUBLISH
UID:64087@regionalniportaly.cz
DTSTAMP:20260421T152234Z
DTSTART;VALUE=DATE:20260616
DTEND;VALUE=DATE:20260617
SUMMARY:Mistr rovnováhy: Jak stíhat vše a nevyhořet
DESCRIPTION:3hodinový workshop pro podnikatele a ambiciózní lidi\, kteří chtějí růst – bez vyhoření.\nByznys. Sport. Rodina.Všechno chceš naplno. Ale ne za cenu vyčerpání.\nTento workshop ti ukáže\, jak výkon řídit strategicky – ne chaoticky.\n Blok 1: Radikální prioritizace a mýtus multitaskingu\n Analýza 80/20 – které aktivity skutečně tvoří výsledky  Energetický management – neřídíš čas\, řídíš energii  Hell Yes / No – naučíš se odmítat věci\, které tě brzdí\nZískáš jasnost v tom\, co dělat – a co přestat dělat.\n Blok 2: Nástroje pro „High Performance“ podnikatele\n Deep Work – bloky hluboké práce bez vyrušení  Time Blocking – trénink jako nejdůležitější schůzka dne  Automatizace a delegování – kde ti čas může vrátit AI nebo asistent\nNejde o více práce. Jde o lepší systém.\n Blok 3: Udržitelnost a prevence vyhoření\n Výkon vs. regenerace – proč je spánek byznysová výhoda  Psychická odolnost – techniky zvládání tlaku  Akční plán – sestavíš svůj Ideální týden 2026\nOdcházíš s konkrétním modelem\, jak růst a přitom neztratit sebe.\n Úspěch bez rovnováhy není výhra.V roce 2026 můžeš mít obojí.
LOCATION:Bohutice
END:VEVENT
END:VCALENDAR