BEGIN:VCALENDAR
VERSION:2.0
CALSCALE:GREGORIAN
PRODID:-//MyApp//Calendar 1.0//EN
BEGIN:VEVENT
METHOD:PUBLISH
UID:64346@regionalniportaly.cz
DTSTAMP:20260422T031550Z
DTSTART;VALUE=DATE:20260322
DTEND;VALUE=DATE:20260323
SUMMARY:Provoněné Velikonoce v Panské zahradě Bohutice
DESCRIPTION:Velikonoce se blíží a my jsme si pro vás připravili malé jarní setkání\, na kterém se na ně můžete krásně naladit.K zakoupení budou velikonoční dekorace z přírodních materiálů\, které přinesou do vašeho domova jarní atmosféru. Odnést si můžete také prémiovou italskou kosmetiku Davidea nebo interiérové vůně španělské značky Ambinature\, díky kterým přivítáte jaro opravdu naplno.Těšíme se na setkání s vámi u nás V Panské zahradě.
LOCATION:Bohutice
END:VEVENT
END:VCALENDAR