BEGIN:VCALENDAR
VERSION:2.0
CALSCALE:GREGORIAN
PRODID:-//MyApp//Calendar 1.0//EN
BEGIN:VEVENT
METHOD:PUBLISH
UID:6440@regionalniportaly.cz
DTSTAMP:20260422T111228Z
DTSTART;VALUE=DATE:20160430
DTEND;VALUE=DATE:20160501
SUMMARY:Pálení čarodějnic v Pasohlávkách
DESCRIPTION:
LOCATION:Pasohlávky
END:VEVENT
END:VCALENDAR