BEGIN:VCALENDAR
VERSION:2.0
CALSCALE:GREGORIAN
PRODID:-//MyApp//Calendar 1.0//EN
BEGIN:VEVENT
METHOD:PUBLISH
UID:65788@regionalniportaly.cz
DTSTAMP:20260422T070829Z
DTSTART;VALUE=DATE:20260515
DTEND;VALUE=DATE:20260516
SUMMARY:Farma zvířat
DESCRIPTION:Klasická satirická alegorická bajku George Orwella o revoluci na zemědělské farmě\, kde se vzbouří zvířata\, vyženou všechny lidi a vedou ji dál sama. Sen o rovnosti se však postupně mění v nemilosrdnou tyranii.
LOCATION:Měnín
END:VEVENT
END:VCALENDAR