BEGIN:VCALENDAR
VERSION:2.0
CALSCALE:GREGORIAN
PRODID:-//MyApp//Calendar 1.0//EN
BEGIN:VEVENT
METHOD:PUBLISH
UID:65843@regionalniportaly.cz
DTSTAMP:20260425T193258Z
DTSTART;VALUE=DATE:20260713
DTEND;VALUE=DATE:20260724
SUMMARY:Summer Camp 2026
DESCRIPTION:
LOCATION:Bučovice
END:VEVENT
END:VCALENDAR