BEGIN:VCALENDAR
VERSION:2.0
CALSCALE:GREGORIAN
PRODID:-//MyApp//Calendar 1.0//EN
BEGIN:VEVENT
METHOD:PUBLISH
UID:6697@regionalniportaly.cz
DTSTAMP:20260422T110726Z
DTSTART;VALUE=DATE:20160430
DTEND;VALUE=DATE:20160501
SUMMARY:Čarodějnické vítání jara
DESCRIPTION:
LOCATION:Židlochovice
END:VEVENT
END:VCALENDAR