BEGIN:VCALENDAR
VERSION:2.0
CALSCALE:GREGORIAN
PRODID:-//MyApp//Calendar 1.0//EN
BEGIN:VEVENT
METHOD:PUBLISH
UID:6836@regionalniportaly.cz
DTSTAMP:20260420T120432Z
DTSTART;VALUE=DATE:20160820
DTEND;VALUE=DATE:20160821
SUMMARY:Dirt 2016
DESCRIPTION:Mistrovství České republiky ve freestyle BMX kategorie Dirt. Pojďte si užít víkend plný zábavy\, ježdění a grilovaček. Kategorie se pojedou dvě - Amateur a Profi. \n\n
LOCATION:Pohořelice
END:VEVENT
END:VCALENDAR