BEGIN:VCALENDAR
VERSION:2.0
CALSCALE:GREGORIAN
PRODID:-//MyApp//Calendar 1.0//EN
BEGIN:VEVENT
METHOD:PUBLISH
UID:7323@regionalniportaly.cz
DTSTAMP:20260420T120347Z
DTSTART;VALUE=DATE:20160826
DTEND;VALUE=DATE:20160827
SUMMARY:Český pohár a MČR ve wakeboardingu a wakeskatingu 
DESCRIPTION:Zveme všechny milovníky a příznivce vodních sportů na Český pohár a MČR ve wakeboardingu a wakeskatingu\, který proběhne ve dnech 26. a 27. srpna 2016 v ATC Merkur Pasohlávky. Jedná se o největší sportovní událost wake sezóny. V pátek se uskuteční závody pro amatéry\, v sobotu proběhne velké finále všech kategorií a chybět nebude ani hudební produkce. Těší se pořadatelé.
LOCATION:Pasohlávky
END:VEVENT
END:VCALENDAR