BEGIN:VCALENDAR
VERSION:2.0
CALSCALE:GREGORIAN
PRODID:-//MyApp//Calendar 1.0//EN
BEGIN:VEVENT
METHOD:PUBLISH
UID:7325@regionalniportaly.cz
DTSTAMP:20260420T120401Z
DTSTART;VALUE=DATE:20160820
DTEND;VALUE=DATE:20160821
SUMMARY:Expedice za sousedy - cyklistický výlet
DESCRIPTION:Obec Kubšice ve spolupráci s okolními obcemi pořádá již 4. ročník cykloakce "Expedice za sousedy". \nVyražte po krásách Moravskokrumlovska a poznejte tento krásný mikroregion ze sedla kola. 
LOCATION:Kubšice
END:VEVENT
END:VCALENDAR