BEGIN:VCALENDAR
VERSION:2.0
CALSCALE:GREGORIAN
PRODID:-//MyApp//Calendar 1.0//EN
BEGIN:VEVENT
METHOD:PUBLISH
UID:8560@regionalniportaly.cz
DTSTAMP:20260423T112657Z
DTSTART;VALUE=DATE:20161227
DTEND;VALUE=DATE:20161228
SUMMARY:Netradiční bowlingový vánoční turnaj dítě + rodič
DESCRIPTION:Vstupné je 150 Kč na družstvo\, v ceně pizza.\nMísto konání:	Orlovna Židlochovice\, 15:00 - 17:00
LOCATION:Židlochovice
END:VEVENT
END:VCALENDAR